BEGIN:VCALENDAR
VERSION:2.0
PRODID:-//wp-events-plugin.com//7.2.3.1//EN
TZID:Europe/Berlin
X-WR-TIMEZONE:Europe/Berlin
BEGIN:VEVENT
UID:80@lenneper-schuetzenverein.de
DTSTART;TZID=Europe/Berlin:20250906T000000
DTEND;TZID=Europe/Berlin:20250914T000000
DTSTAMP:20250725T091923Z
URL:https://lenneper-schuetzenverein.de/veranstaltungen/pokalschiessen-tue
 ckinger-schuetzenverein-1872-e-v/
SUMMARY:Pokalschießen  Tückinger Schützenverein 1872 e.V.
DESCRIPTION:https://tsv1872.de/
END:VEVENT
BEGIN:VTIMEZONE
TZID:Europe/Berlin
X-LIC-LOCATION:Europe/Berlin
BEGIN:DAYLIGHT
DTSTART:20250330T030000
TZOFFSETFROM:+0100
TZOFFSETTO:+0200
TZNAME:CEST
END:DAYLIGHT
END:VTIMEZONE
END:VCALENDAR