BEGIN:VCALENDAR
VERSION:2.0
PRODID:-//wp-events-plugin.com//7.2.3.1//EN
TZID:Europe/Berlin
X-WR-TIMEZONE:Europe/Berlin
BEGIN:VEVENT
UID:81@lenneper-schuetzenverein.de
DTSTART;TZID=Europe/Berlin:20250927T140000
DTEND;TZID=Europe/Berlin:20250927T200000
DTSTAMP:20250801T071702Z
URL:https://lenneper-schuetzenverein.de/veranstaltungen/tagestour-bergisch
 er-schuetzenbund/
SUMMARY:Tagestour Bergischer Schützenbund
DESCRIPTION:[pdf-embedder url="https://lenneper-schuetzenverein.de/wp-conte
 nt/uploads/2025/08/Tagestour-2025.pdf" title="Tagestour 2025"]
END:VEVENT
BEGIN:VTIMEZONE
TZID:Europe/Berlin
X-LIC-LOCATION:Europe/Berlin
BEGIN:DAYLIGHT
DTSTART:20250330T030000
TZOFFSETFROM:+0100
TZOFFSETTO:+0200
TZNAME:CEST
END:DAYLIGHT
END:VTIMEZONE
END:VCALENDAR